BEGIN:VCALENDAR
VERSION:2.0
PRODID:-//Missouri Chess Association - ECPv6.15.20//NONSGML v1.0//EN
CALSCALE:GREGORIAN
METHOD:PUBLISH
X-ORIGINAL-URL:https://mochess.org
X-WR-CALDESC:Events for Missouri Chess Association
REFRESH-INTERVAL;VALUE=DURATION:PT1H
X-Robots-Tag:noindex
X-PUBLISHED-TTL:PT1H
BEGIN:VTIMEZONE
TZID:America/Chicago
BEGIN:DAYLIGHT
TZOFFSETFROM:-0600
TZOFFSETTO:-0500
TZNAME:CDT
DTSTART:20220313T080000
END:DAYLIGHT
BEGIN:STANDARD
TZOFFSETFROM:-0500
TZOFFSETTO:-0600
TZNAME:CST
DTSTART:20221106T070000
END:STANDARD
BEGIN:DAYLIGHT
TZOFFSETFROM:-0600
TZOFFSETTO:-0500
TZNAME:CDT
DTSTART:20230312T080000
END:DAYLIGHT
BEGIN:STANDARD
TZOFFSETFROM:-0500
TZOFFSETTO:-0600
TZNAME:CST
DTSTART:20231105T070000
END:STANDARD
BEGIN:DAYLIGHT
TZOFFSETFROM:-0600
TZOFFSETTO:-0500
TZNAME:CDT
DTSTART:20240310T080000
END:DAYLIGHT
BEGIN:STANDARD
TZOFFSETFROM:-0500
TZOFFSETTO:-0600
TZNAME:CST
DTSTART:20241103T070000
END:STANDARD
END:VTIMEZONE
BEGIN:VEVENT
DTSTART;TZID=America/Chicago:20230415T090000
DTEND;TZID=America/Chicago:20230415T193000
DTSTAMP:20260423T172623
CREATED:20230315T041610Z
LAST-MODIFIED:20230315T042447Z
UID:2069-1681549200-1681587000@mochess.org
SUMMARY:2023 High School Tournament of Champions
DESCRIPTION:Individual High School Championship to determine the Denker HS Tournament Representative. \nLocation: Hampton Inn &amp; Suites\, 1225 Fellow’s Place\, Columbia MO 65201 \nEntry Fee: $10. \nRounds: G/60\,d5 Rounds Times: 10am\, 12:30\, 2:45\, 5pm \nRegistration: Pre-reg by email Bdhowe@yahoo.com include Name\, Grade\, USCF\n#. Payment on site only. Check in between 9 – 9:45am. \nQualification: Players may qualify for the event by rating or performance at the State Championship on March 18th . Rating: Any player grades 9-12 with a USCF rating over 1000. State Qualifier: Players who score 3 or more points on Board 1 or 2\, or 3.5 or more points on Boards 3 or 4 qualify for the event. \nPrizes: Trophies to top 3 finishers\, Winner named Missouri Scholastic Champion and invited to represent Missouri in the Denker High SchoolChampion. \nInfo: Bob Howe\, Bdhowe@yahoo.com 636 234 7928
URL:https://mochess.org/event/2023-high-school-tournament-of-champions/
LOCATION:Hampton Inn & Suites\, 1225 Fellow's Place\, Columbia\, MO\, 65201\, United States
CATEGORIES:Scholastic
ORGANIZER;CN="Bob Howe":MAILTO:bdhowe@yahoo.com
END:VEVENT
BEGIN:VEVENT
DTSTART;TZID=America/Chicago:20230415T090000
DTEND;TZID=America/Chicago:20230415T193000
DTSTAMP:20260423T172623
CREATED:20230315T041743Z
LAST-MODIFIED:20230315T042430Z
UID:2071-1681549200-1681587000@mochess.org
SUMMARY:2023 Missouri All Girls Tournament
DESCRIPTION:This event is open to all female players in Grades K-12. USCF Membership required. \nLocation: Hampton Inn &amp; Suites\, 1225 Fellow’s Place\, Columbia MO 65201 \nEntry Fee: $10. \nRounds: G/60\,d5 Rounds Times: 10am\, 12:30\, 2:45\, 5pm \nRegistration: Pre-reg by email Bdhowe@yahoo.com include Name\, Grade\, USCF #. Payment on site only. Check in between 9 – 9:45am. \nPrizes: Trophies to top 3 finishers\, top 8th and under\, top 5th and under. The overall winner will be invited to play in the Ruth Haring National All Girls Invitational Tournament in August 2023. \nInfo: Bob Howe\, Bdhowe@yahoo.com 636 234 7928
URL:https://mochess.org/event/2023-missouri-all-girls-tournament/
LOCATION:Hampton Inn & Suites\, 1225 Fellow's Place\, Columbia\, MO\, 65201\, United States
CATEGORIES:Scholastic
ORGANIZER;CN="Bob Howe":MAILTO:bdhowe@yahoo.com
END:VEVENT
END:VCALENDAR