BEGIN:VCALENDAR
VERSION:2.0
PRODID:-//Missouri Chess Association - ECPv6.15.20//NONSGML v1.0//EN
CALSCALE:GREGORIAN
METHOD:PUBLISH
X-ORIGINAL-URL:https://mochess.org
X-WR-CALDESC:Events for Missouri Chess Association
REFRESH-INTERVAL;VALUE=DURATION:PT1H
X-Robots-Tag:noindex
X-PUBLISHED-TTL:PT1H
BEGIN:VTIMEZONE
TZID:America/Chicago
BEGIN:DAYLIGHT
TZOFFSETFROM:-0600
TZOFFSETTO:-0500
TZNAME:CDT
DTSTART:20230312T080000
END:DAYLIGHT
BEGIN:STANDARD
TZOFFSETFROM:-0500
TZOFFSETTO:-0600
TZNAME:CST
DTSTART:20231105T070000
END:STANDARD
BEGIN:DAYLIGHT
TZOFFSETFROM:-0600
TZOFFSETTO:-0500
TZNAME:CDT
DTSTART:20240310T080000
END:DAYLIGHT
BEGIN:STANDARD
TZOFFSETFROM:-0500
TZOFFSETTO:-0600
TZNAME:CST
DTSTART:20241103T070000
END:STANDARD
BEGIN:DAYLIGHT
TZOFFSETFROM:-0600
TZOFFSETTO:-0500
TZNAME:CDT
DTSTART:20250309T080000
END:DAYLIGHT
BEGIN:STANDARD
TZOFFSETFROM:-0500
TZOFFSETTO:-0600
TZNAME:CST
DTSTART:20251102T070000
END:STANDARD
END:VTIMEZONE
BEGIN:VEVENT
DTSTART;TZID=America/Chicago:20241109T083000
DTEND;TZID=America/Chicago:20241110T180000
DTSTAMP:20260423T051534
CREATED:20241012T143248Z
LAST-MODIFIED:20241012T143534Z
UID:2250-1731141000-1731261600@mochess.org
SUMMARY:2024 Missouri Class Championships
DESCRIPTION:Sections: Master/Expert (2000+)\, Class A (1800-1999)\, Class B (1600-1799)\, Class C\n(1400-1599)\, Class D (1200-1399)\, and Under 1200 \n*Novice Section: Under 1000/Unrated The novice section is held with a shorter time\ncontrol and completes in one day. See below for full details! \nEach section plays only players in their own section (small sections may be combined\nfor pairing but will keep separate prizes) Players are allowed to “play up” one section\nonly above their official rating. Out of state players are welcome. \nRounds: G/90 d;15. \nRound Times: Saturday – 10\, 2:15\, 6:30\, Sunday 10 – 2:15 \nEntry Fee: $40 pre-registered by 6pm 11/8. $50 on site. Email bdhowe@yahoo.com.\nOnline Payment to www.paypal.me/mochess. Please include Name/USCF ID/Section\nin the paypal notes. Cash &amp; Credit Cards accepted onsite. Free Entry to GM/IM. Max 1\nhalf bye; MCA required\, O.S.A.\, available on site from $5. \nPrizes: Based on 7 per class\nMaster/Expert Section: $300-1st\, $200-2nd\,\nClass A\, B\, C\, D\, Under 1200: $200-1 st \, $100-2 nd in each section.\nMissouri Class Champion Plaque awarded to the winner of each section. \nEntries/Info: Bob Howe\, 210 N. Olive St\, Pacific\, MO 63069 \n(636) 234.7928 bdhowe@yahoo.com \n  \n**Novice Championship Information\nOpen only to new/unrated players or players Rated under 1000\nPlayed on Saturday only: 4 rounds\, Game in 45\, d5\, Registration: 8:30-9:30; Round Times\n10am\, 12:15\, 2:15\, 4:30 Entry Fee: $15 pre-registered (payment received by 6/21) $20 on site.\nOnline Payment to www.paypal.me/mochess. Please include Name and USCF in the notes.\nPrizes: based on 15 players: 1 st $100 + Novice State Champion Trophy\, 2 nd $50
URL:https://mochess.org/event/2024-missouri-class-championships/
LOCATION:Southside Senior Center\, 2215 S. Freemont Ave.\, Springfield\, MO\, 65804\, United States
ORGANIZER;CN="Bob Howe":MAILTO:bdhowe@yahoo.com
END:VEVENT
END:VCALENDAR